BEGIN:VCALENDAR
VERSION:2.0
PRODID:-//Vera Lee Meeting &amp; Event Venue - ECPv6.15.20//NONSGML v1.0//EN
CALSCALE:GREGORIAN
METHOD:PUBLISH
X-ORIGINAL-URL:https://veraleevenue.com
X-WR-CALDESC:Events for Vera Lee Meeting &amp; Event Venue
REFRESH-INTERVAL;VALUE=DURATION:PT1H
X-Robots-Tag:noindex
X-PUBLISHED-TTL:PT1H
BEGIN:VTIMEZONE
TZID:UTC
BEGIN:STANDARD
TZOFFSETFROM:+0000
TZOFFSETTO:+0000
TZNAME:UTC
DTSTART:20250101T000000
END:STANDARD
END:VTIMEZONE
BEGIN:VEVENT
DTSTART;VALUE=DATE:20260214
DTEND;VALUE=DATE:20260215
DTSTAMP:20260421T115003
CREATED:20251222T221516Z
LAST-MODIFIED:20251222T230454Z
UID:413-1771027200-1771113599@veraleevenue.com
SUMMARY:Valentine's Day Pop-Up Weddings
DESCRIPTION:Vera Lee Venue’s Valentine’s Day Pop-Up Weddings are a curated\, time-limited micro-wedding experience designed for couples who want a beautiful\, intimate ceremony without the complexity of a traditional wedding. \nEach couple is scheduled for a private wedding session that includes a styled ceremony\, professional photography\, select video coverage\, a celebratory cake cutting\, champagne toast for the couple\, and a first dance. All décor\, staging\, coordination\, and flow are professionally managed by the Vera Lee Venue team. \nThis event is intentionally structured to allow multiple couples to enjoy the experience throughout the day while maintaining a high level of quality\, timing\, and organization. \nView Expanded Event Information >
URL:https://veraleevenue.com/event/valentines-day-pop-up-weddings/
LOCATION:Vera Lee Venue – Meeting & Events\, 1854B E Broadway\, Alton\, IL\, 62002\, United States
CATEGORIES:Pop-Up Wedding Events
ORGANIZER;CN="Vera Lee Events":MAILTO:VeraLeeVenue@gmail.com
END:VEVENT
END:VCALENDAR