BEGIN:VCALENDAR
VERSION:2.0
PRODID:-//Vera Lee Meeting &amp; Event Venue - ECPv6.15.20//NONSGML v1.0//EN
CALSCALE:GREGORIAN
METHOD:PUBLISH
X-WR-CALNAME:Vera Lee Meeting &amp; Event Venue
X-ORIGINAL-URL:https://veraleevenue.com
X-WR-CALDESC:Events for Vera Lee Meeting &amp; Event Venue
REFRESH-INTERVAL;VALUE=DURATION:PT1H
X-Robots-Tag:noindex
X-PUBLISHED-TTL:PT1H
BEGIN:VTIMEZONE
TZID:UTC
BEGIN:STANDARD
TZOFFSETFROM:+0000
TZOFFSETTO:+0000
TZNAME:UTC
DTSTART:20250101T000000
END:STANDARD
END:VTIMEZONE
BEGIN:VEVENT
DTSTART;VALUE=DATE:20260510
DTEND;VALUE=DATE:20260511
DTSTAMP:20260422T102540
CREATED:20251222T222911Z
LAST-MODIFIED:20260413T213832Z
UID:419-1778371200-1778457599@veraleevenue.com
SUMMARY:Mother's Day
DESCRIPTION:Relax with the family. Sip on bottomless mimosas. Make Mom’s Day your day! \nCelebrate Mother’s Day with a special experience designed to honor and pamper moms! Guests will enjoy a delicious brunch meal with dessert\, a bottomless mimosa bar with both alcoholic and non-alcoholic options\, and a mini photo session with HMCruz Photography that includes two 4×6 prints to cherish the memories. The celebration also features unlimited access to a selfie station and a ticket entry for a chance to win an attendance prize\, making it a joyful and memorable Mother’s Day gathering. \nStay tuned for more information!
URL:https://veraleevenue.com/event/mothers-day/
LOCATION:Vera Lee Venue – Meeting & Events\, 1854B E Broadway\, Alton\, IL\, 62002\, United States
CATEGORIES:Mother's Day
ORGANIZER;CN="Vera Lee Events":MAILTO:VeraLeeVenue@gmail.com
END:VEVENT
END:VCALENDAR